BEGIN:VCALENDAR
VERSION:2.0
PRODID:-//wp-events-plugin.com//7.2.3.1//EN
TZID:Europe/London
X-WR-TIMEZONE:Europe/London
BEGIN:VEVENT
UID:0-1164@p17catenians.org
DTSTART:20260504T093000Z
DTEND:20260504T093000Z
DTSTAMP:20260307T174156Z
URL:https://p17catenians.org/events/bank-holiday-breakfast-club-3/
SUMMARY:Bank Holiday Breakfast Club
DESCRIPTION:Brooklands &amp\; Didsbury BH Breakfast Club
CATEGORIES:Brooklands Didsbury
LOCATION:Bramley Farm\, Sinderland Road\, Timperley\, Manchester\, WA14 5JQ
 \, United Kingdom
GEO:53.404211;-2.360842
X-APPLE-STRUCTURED-LOCATION;VALUE=URI;X-ADDRESS=Sinderland Road\, Timperley
 \, Manchester\, WA14 5JQ\, United Kingdom;X-APPLE-RADIUS=100;X-TITLE=Braml
 ey Farm:geo:53.404211,-2.360842
END:VEVENT
END:VCALENDAR