BEGIN:VCALENDAR
VERSION:2.0
PRODID:-//wp-events-plugin.com//7.2.3.1//EN
TZID:Europe/London
X-WR-TIMEZONE:Europe/London
BEGIN:VEVENT
UID:0-1147@p17catenians.org
DTSTART:20270202T193000Z
DTEND:20270202T223000Z
DTSTAMP:20251113T073808Z
URL:https://p17catenians.org/events/brooklands-didsbury-pub-of-the-month-2
 027-01-05-2027-02-02/
SUMMARY:Brooklands & Didsbury Pub of the Month
DESCRIPTION:
CATEGORIES:Brooklands Didsbury
END:VEVENT
END:VCALENDAR