BEGIN:VCALENDAR
VERSION:2.0
PRODID:-//wp-events-plugin.com//7.2.3.1//EN
TZID:Europe/London
X-WR-TIMEZONE:Europe/London
BEGIN:VEVENT
UID:0-797@p17catenians.org
DTSTART:20260325T193000Z
DTEND:20260325T220000Z
DTSTAMP:20260223T091542Z
URL:https://p17catenians.org/events/crewe-circle-meeting-2026-03-25/
SUMMARY:Crewe Circle Meeting & Dinner
DESCRIPTION:Meetings are held on the 4th Wednesday of each month (December 
 varies) at 7.30pm Holmes Chapel Community Centre\, Station Road\, CW4 8AA.
 \n\nMarch\, June\, September and December meetings take the form of dinner
  with ladies\, preceded by short Circle Prayers for all – advance bookin
 g essential to secretary@crewe.p17catenians.org.\n\nJune meeting venue may
  be different.\n\nCrewe &amp\; District Circle's End of Year Dinner in Mar
 ch will be held on:\n\nDate: Wednesday\, 25th March 2025\n\nTime: 7pm for 
 7.30 pm\n\nVenue: Holmes Chapel Community Centre\n\n&nbsp\;\n\nCosts:\n\n-
  2 courses: £22 pp\n\n- 3 courses: £26 pp\n\n+£2.50pp  for the Cheese 
 option\n\nThe closing date for bookings is 8pm on Tuesday\, 17th March\, 2
 026.
CATEGORIES:Crewe
LOCATION:Holmes Chapel Community Centre\, Station Road\, Holmes chapel\, Ch
 eshire\, CW4 8AA\, United Kingdom
GEO:53.198656;-2.350082
X-APPLE-STRUCTURED-LOCATION;VALUE=URI;X-ADDRESS=Station Road\, Holmes chape
 l\, Cheshire\, CW4 8AA\, United Kingdom;X-APPLE-RADIUS=100;X-TITLE=Holmes 
 Chapel Community Centre:geo:53.198656,-2.350082
END:VEVENT
END:VCALENDAR