BEGIN:VCALENDAR
VERSION:2.0
PRODID:-//wp-events-plugin.com//7.2.3.1//EN
TZID:Europe/London
X-WR-TIMEZONE:Europe/London
BEGIN:VEVENT
UID:0-1173@p17catenians.org
DTSTART:20260704T140000Z
DTEND:20260704T160000Z
DTSTAMP:20260308T083123Z
URL:https://p17catenians.org/events/history-walk-brook-dids/
SUMMARY:History Walk Brook & Dids
DESCRIPTION:History Walk to be led by Stuart McNeill.
CATEGORIES:Brooklands Didsbury
END:VEVENT
END:VCALENDAR