BEGIN:VCALENDAR
VERSION:2.0
PRODID:-//wp-events-plugin.com//7.2.3.1//EN
TZID:Europe/London
X-WR-TIMEZONE:Europe/London
BEGIN:VEVENT
UID:0-1042@p17catenians.org
DTSTART:20260201T133000Z
DTEND:20260201T173000Z
DTSTAMP:20251113T070214Z
URL:https://p17catenians.org/events/provincial-public-speaking-competition
 /
SUMMARY:Provincial Public Speaking Competition
DESCRIPTION:The Province 1 &amp\; Province 17 Regional Public Speaking cont
 est
CATEGORIES:Provincial
LOCATION:Pendulum Hotel\, Sackville Street\, Manchester\, M1 3BB\, United K
 ingdom
GEO:53.475768;-2.235502
X-APPLE-STRUCTURED-LOCATION;VALUE=URI;X-ADDRESS=Sackville Street\, Manchest
 er\, M1 3BB\, United Kingdom;X-APPLE-RADIUS=100;X-TITLE=Pendulum Hotel:geo
 :53.475768,-2.235502
END:VEVENT
END:VCALENDAR